{"text_format":"3","workbook":"xlsx","n_sheets":9,"sheets":["Сентябрь","Октябрь","Ноябрь","Декабрь","Январь","Февраль","Март","Апрель","Май"],"read":"whole","date_system":"1900"}

{"sheet":"Сентябрь","index":0,"n_rows":35,"n_cols":31,"rows_kept":35}
[]
["дата/класс",1,2,3,4,5,6,7,8,9,10,11,12,13,14,15,16,17,18,19,20,21,22,23,24,25,26,27,28,29,30]
["1а"]
["1б"]
["2а",{"$nulls":21},"м"]
["2б",{"$nulls":17},"М"]
["3а",{"$nulls":11},"М",{"$nulls":4},"Р"]
["3б"]
["4а",{"$nulls":10},"М",{"$nulls":13},"Р"]
["4б",{"$nulls":9},"ОМ",null,"М",null,null,"Р"]
["5а",{"$nulls":8},"Р",{"$nulls":12},"М"]
["5б",{"$nulls":8},"Р",{"$nulls":12},"М"]
["5в",{"$nulls":8},"Р",{"$nulls":14},"М"]
["6а",{"$nulls":9},"Р",null,"Л",{"$nulls":14},"Б"]
["6б",{"$nulls":9},"Р",null,"Л",{"$nulls":14},"Б"]
["7а",{"$nulls":8},"р",{"$nulls":20},"р"]
["7б",{"$nulls":8},"Р"]
["8а",{"$nulls":12},"Р"]
["8б",{"$nulls":9},"р",{"$nulls":19},"р"]
["9а",{"$nulls":16},"Х","р"]
["9б",{"$nulls":16},"Х","р"]
["11а",{"$nulls":14},"р"]
[]
[null,null,"Р","русский язык",null,null," "," ",null,null,"Л","литература"]
[null,null,"М","математика",{"$nulls":6},"Ря","родной язык"]
[null,null,"Ал","алгебра",{"$nulls":6},"Рл","родная литература"]
[null,null,"Гм","геометрия",{"$nulls":6},"Муз","музыка"]
[null,null,"Ф","физика",{"$nulls":6},"ИЗО","изобразительное искусство"]
[null,null,"Х","химия",{"$nulls":6},"Ф-р","физическая культура"]
[null,null,"Б","биология",{"$nulls":6},"ОБЖ","ОБЖ"," "]
[null,null,"Гг","география",{"$nulls":6},"Т","технология"]
[null,null,"Ом","окружающий мир",{"$nulls":6},"Лч","литературное чтение"]
[null,null,"Ая","анг.язык",{"$nulls":6},"ОДНКНР","ОДНКНР"]
[null,null,"И","история",{"$nulls":6}," "," "," "]
[null,null,"Ин","инфофрматика",{"$nulls":7}," "," "]

{"sheet":"Октябрь","index":1,"n_rows":35,"n_cols":32,"rows_kept":35}
[]
["дата/класс",1,2,3,4,5,6,7,8,9,10,11,12,13,14,15,16,17,18,19,20,21,22,23,24,25,26,27,28,29,30,31]
["1а"]
["1б"]
["2а",{"$nulls":19},"м","р"]
["2б",{"$nulls":19},"р","м"]
["3а",{"$nulls":20},"Р","М"]
["3б"]
["4а",{"$nulls":7},"М",{"$nulls":12},"Ая",null,"Р"]
["4б",{"$nulls":8},"М",{"$nulls":3},"Р",{"$nulls":6},"Ая",null,"Р"]
["5а",{"$nulls":17},"М",null,null,"Ая"]
["5б",{"$nulls":13},"Ря",{"$nulls":3},"М",{"$nulls":3},"Ая"]
["5в",{"$nulls":7},"М",{"$nulls":12},"Ая",null,"М"]
["6а",{"$nulls":5},"М","Л",{"$nulls":12},"Л","Ая"]
["6б",{"$nulls":5},"М","Л",{"$nulls":12},"Л",null,"Ая"]
["7а",{"$nulls":12},"р",null,null,"Ая",{"$nulls":3},"Ря","Ая","И"]
["7б",{"$nulls":6},"Ря",{"$nulls":9},"Ая",{"$nulls":4},"И"]
["8а",{"$nulls":10},"Гм",null,null,"Ая","Ря","Ал",{"$nulls":4},"Ая",null,null,"Инф"]
["8б",{"$nulls":5},"р",{"$nulls":7},"Ря","Гм",{"$nulls":4},"р","Ая",null,null,"Инф","л"]
["9а",null,"р",{"$nulls":7},"Ря",{"$nulls":4},"Ая",{"$nulls":5},"Ал","р","Г"]
["9б",null,"р",{"$nulls":17},"Ая",null,"р","Г","Ал"]
["11а",{"$nulls":7},"Ф","Ал",{"$nulls":13},"л"]
[]
[null,null,"Р","русский язык",null,null," "," ",null,null,"Л","литература"]
[null,null,"М","математика",{"$nulls":6},"Ря","родной язык"]
[null,null,"Ал","алгебра",{"$nulls":6},"Рл","родная литература"]
[null,null,"Гм","геометрия",{"$nulls":6},"Муз","музыка"]
[null,null,"Ф","физика",{"$nulls":6},"ИЗО","изобразительное искусство"]
[null,null,"Х","химия",{"$nulls":6},"Ф-р","физическая культура"]
[null,null,"Б","биология",{"$nulls":6},"ОБЖ","ОБЖ"," "]
[null,null,"Гг","география",{"$nulls":6},"Т","технология"]
[null,null,"Ом","окружающий мир",{"$nulls":6},"Лч","литературное чтение"]
[null,null,"Ая","анг.язык",{"$nulls":6},"ОДНКНР","ОДНКНР"]
[null,null,"И","история",{"$nulls":6}," "," "," "]
[null,null,"Ин","инфофрматика",{"$nulls":7}," "," "]

{"sheet":"Ноябрь","index":2,"n_rows":35,"n_cols":31,"rows_kept":35}
[]
["дата/класс",1,2,3,4,5,6,7,8,9,10,11,12,13,14,15,16,17,18,19,20,21,22,23,24,25,26,27,28,29,30]
["1а"]
["1б"]
["2а"]
["2б"]
["3а",{"$nulls":26},"Р"]
["3б"]
["4а"]
["4б",{"$nulls":9},"ОМ",{"$nulls":3},"Р"]
["5а",{"$nulls":10},"Ая",{"$nulls":17},"Р"]
["5б",{"$nulls":17},"Ая",{"$nulls":10},"Р"]
["5в",{"$nulls":16},"М",{"$nulls":7},"М"]
["6а",{"$nulls":13},"М",{"$nulls":3},"Ая"]
["6б",{"$nulls":12},"М",{"$nulls":4},"Ая"]
["7а",{"$nulls":9},"Ал",{"$nulls":6},"л",{"$nulls":4},"р",{"$nulls":6},"р"]
["7б",{"$nulls":9},"Ал"]
["8а",{"$nulls":10},"ВиС",{"$nulls":12},"Х"]
["8б",{"$nulls":11},"Ал",{"$nulls":11},"Х"]
["9а",{"$nulls":9},"Гм",null,"Х",{"$nulls":8},"Инф"]
["9б",{"$nulls":10},"Гм","Х",null,"Ф",{"$nulls":6},"Инф"]
["11а",{"$nulls":10},"ВиС","Ф","общ",{"$nulls":7},"Инф",null,null,"р"]
[]
[null,null,"Р","русский язык",null,null," "," ",null,null,"Л","литература"]
[null,null,"М","математика",{"$nulls":6},"Ря","родной язык"]
[null,null,"Ал","алгебра",{"$nulls":6},"Рл","родная литература"]
[null,null,"Гм","геометрия",{"$nulls":6},"Муз","музыка"]
[null,null,"Ф","физика",{"$nulls":6},"ИЗО","изобразительное искусство"]
[null,null,"Х","химия",{"$nulls":6},"Ф-р","физическая культура"]
[null,null,"Б","биология",{"$nulls":6},"ОБЖ","ОБЖ"," "]
[null,null,"Гг","география",{"$nulls":6},"Т","технология"]
[null,null,"Ом","окружающий мир",{"$nulls":6},"Лч","литературное чтение"]
[null,null,"Ая","анг.язык",{"$nulls":6},"ОДНКНР","ОДНКНР"]
[null,null,"И","история",{"$nulls":6}," "," "," "]
[null,null,"Ин","инфофрматика",{"$nulls":7}," "," "]

{"sheet":"Декабрь","index":3,"n_rows":35,"n_cols":32,"rows_kept":35}
[]
["дата/класс",1,2,3,4,5,6,7,8,9,10,11,12,13,14,15,16,17,18,19,20,21,22,23,24,25,26,27,28,29,30,31]
["1а"]
["1б"]
["2а","Ая",{"$nulls":21},"м","р"]
["2б","Ая",{"$nulls":21},"м","р"]
["3а",null,null,"М",{"$nulls":11},"Ая",{"$nulls":6},"Ая","ОМ"]
["3б",{"$nulls":14},"Ая",{"$nulls":7},"Ая"]
["4а","М",{"$nulls":6},"Р",{"$nulls":14},"Ая"]
["4б",null,"М",{"$nulls":5},"ОМ",{"$nulls":3},"Р",{"$nulls":6},"Р",null,null,"Ая"]
["5а",{"$nulls":5},"Р",{"$nulls":8},"М",null,null,"Р",{"$nulls":4},"Ая"]
["5б",{"$nulls":5},"Р",{"$nulls":3},"Ря",{"$nulls":4},"М",null,null,"Р",{"$nulls":5},"Ая"]
["5в","Р",{"$nulls":6},"Р",{"$nulls":9},"Р",{"$nulls":4},"М",null,"Ая"]
["6а",{"$nulls":11},"М",{"$nulls":10},"Ая"]
["6б",{"$nulls":10},"М",{"$nulls":12},"Ая"]
["7а",{"$nulls":5},"Инф",{"$nulls":9},"р",null,"Ая",{"$nulls":3},"Ря","Ая",null,"Ф","ВиС","р"]
["7б",{"$nulls":5},"Инф",null,null,"Ря",{"$nulls":7},"Ая",null,"ВиС",{"$nulls":5},"Ф"]
["8а",{"$nulls":4},"ф",{"$nulls":6},"Ал",{"$nulls":4},"Ая","Ря",{"$nulls":4},"Гм",null,"Ая"]
["8б",null,"р",null,null,"ф",{"$nulls":5},"ВиС",{"$nulls":3},"Ал",null,"Гм","Ря",null,"л",null,null,"Ая"]
["9а",null,"Ал","р",{"$nulls":4},"Гм",{"$nulls":3},"Ря","л",null,null,"Ая",null,"л","общ",{"$nulls":6},"Г",{"$nulls":3},"л"]
["9б","Ал",null,"р",{"$nulls":5},"Гм",null,null,"л",{"$nulls":5},"общ","л",null,null,"Ая",null,null,"Г",{"$nulls":4},"л"]
["11а",{"$nulls":7},"Ал",null,null,"л",{"$nulls":3},"Х","Гм","Ф",{"$nulls":6},"Ая"]
[]
[null,null,"Р","русский язык",null,null," "," ",null,null,"Л","литература"]
[null,null,"М","математика",{"$nulls":6},"Ря","родной язык"]
[null,null,"Ал","алгебра",{"$nulls":6},"Рл","родная литература"]
[null,null,"Гм","геометрия",{"$nulls":6},"Муз","музыка"]
[null,null,"Ф","физика",{"$nulls":6},"ИЗО","изобразительное искусство"]
[null,null,"Х","химия",{"$nulls":6},"Ф-р","физическая культура"]
[null,null,"Б","биология",{"$nulls":6},"ОБЖ","ОБЖ"," "]
[null,null,"Гг","география",{"$nulls":6},"Т","технология"]
[null,null,"Ом","окружающий мир",{"$nulls":6},"Лч","литературное чтение"]
[null,null,"Ая","анг.язык",{"$nulls":6},"ОДНКНР","ОДНКНР"]
[null,null,"И","история",{"$nulls":6}," "," "," "]
[null,null,"Ин","инфофрматика",{"$nulls":7}," "," "]

{"sheet":"Январь","index":4,"n_rows":35,"n_cols":32,"rows_kept":35}
[]
["дата/класс",1,2,3,4,5,6,7,8,9,10,11,12,13,14,15,16,17,18,19,20,21,22,23,24,25,26,27,28,29,30,31]
[{"$f":"Октябрь!A3","v":"1а"}]
[{"$f":"Октябрь!A4","v":"1б"}]
[{"$f":"Октябрь!A5","v":"2а"}]
[{"$f":"Октябрь!A6","v":"2б"}]
[{"$f":"Октябрь!A7","v":"3а"}]
[{"$f":"Октябрь!A8","v":"3б"}]
[{"$f":"Октябрь!A9","v":"4а"},{"$nulls":13},"М",{"$nulls":6},"ОМ"]
[{"$f":"Октябрь!A10","v":"4б"},{"$nulls":13},"ОМ","М",{"$nulls":4},"Р"]
[{"$f":"Октябрь!A11","v":"5а"},{"$nulls":12},"Л",{"$nulls":3},"Р",null,null,"Ая"]
[{"$f":"Октябрь!A12","v":"5б"},{"$nulls":11},"Л",{"$nulls":4},"Ая",null,null,"Р"]
[{"$f":"Октябрь!A13","v":"5в"},{"$nulls":13},"М","Л",{"$nulls":3},"Р",{"$nulls":9},"М"]
[{"$f":"Октябрь!A14","v":"6а"},{"$nulls":25},"М","Ая"]
[{"$f":"Октябрь!A15","v":"6б"},{"$nulls":26},"Ая"]
[{"$f":"Октябрь!A16","v":"7а"},{"$nulls":12},"Гм","И",{"$nulls":4},"л",null,null,"Ал",{"$nulls":4},"Б"]
[{"$f":"Октябрь!A17","v":"7б"},{"$nulls":13},"И","Гм",{"$nulls":6},"Ал"]
[{"$f":"Октябрь!A18","v":"8а"},{"$nulls":15},"Г",null,null,"Б"]
[{"$f":"Октябрь!A19","v":"8б"},{"$nulls":12},"р",null,"Г",{"$nulls":6},"Б",{"$nulls":5},"Ал"]
[{"$f":"Октябрь!A20","v":"9а"},{"$nulls":19},"Ал",null,"Б",{"$nulls":3},"Гм",null,null,"л",null,"л"]
[{"$f":"Октябрь!A21","v":"9б"},{"$nulls":18},"Ал",null,"Б",{"$nulls":5},"Гм",null,"л",null,"л"]
[{"$f":"Октябрь!A22","v":"11а"},{"$nulls":26},"общ","Ф"]
[]
[null,null,"Р","русский язык",null,null," "," ",null,null,"Л","литература"]
[null,null,"М","математика",{"$nulls":6},"Ря","родной язык"]
[null,null,"Ал","алгебра",{"$nulls":6},"Рл","родная литература"]
[null,null,"Гм","геометрия",{"$nulls":6},"Муз","музыка"]
[null,null,"Ф","физика",{"$nulls":6},"ИЗО","изобразительное искусство"]
[null,null,"Х","химия",{"$nulls":6},"Ф-р","физическая культура"]
[null,null,"Б","биология",{"$nulls":6},"ОБЖ","ОБЖ"," "]
[null,null,"Гг","география",{"$nulls":6},"Т","технология"]
[null,null,"Ом","окружающий мир",{"$nulls":6},"Лч","литературное чтение"]
[null,null,"Ая","анг.язык",{"$nulls":6},"ОДНКНР","ОДНКНР"]
[null,null,"И","история",{"$nulls":6}," "," "," "]
[null,null,"Ин","инфофрматика",{"$nulls":7}," "," "]

{"sheet":"Февраль","index":5,"n_rows":35,"n_cols":29,"rows_kept":35}
[]
["дата/класс",1,2,3,4,5,6,7,8,9,10,11,12,13,14,15,16,17,18,19,20,21,22,23,24,25,26,27,28]
[{"$f":"Октябрь!A3","v":"1а"}]
[{"$f":"Октябрь!A4","v":"1б"}]
[{"$f":"Октябрь!A5","v":"2а"}]
[{"$f":"Октябрь!A6","v":"2б"}]
[{"$f":"Октябрь!A7","v":"3а"},{"$nulls":3},"М",{"$nulls":5},"Р"]
[{"$f":"Октябрь!A8","v":"3б"}]
[{"$f":"Октябрь!A9","v":"4а"},{"$nulls":18},"М",{"$nulls":5},"Р"]
[{"$f":"Октябрь!A10","v":"4б"},null,null,"Р",{"$nulls":7},"Р",{"$nulls":7},"М",{"$nulls":6},"Р"]
[{"$f":"Октябрь!A11","v":"5а"},{"$nulls":8},"Р",null,"М",{"$nulls":5},"Р"]
[{"$f":"Октябрь!A12","v":"5б"},{"$nulls":10},"М","Р",{"$nulls":6},"Р"]
[{"$f":"Октябрь!A13","v":"5в"},{"$nulls":9},"Р",{"$nulls":7},"Р",{"$nulls":5},"М"]
[{"$f":"Октябрь!A14","v":"6а"},{"$nulls":15},"М"]
[{"$f":"Октябрь!A15","v":"6б"},{"$nulls":11},"М"]
[{"$f":"Октябрь!A16","v":"7а"},{"$nulls":11},"И",null,"р"]
[{"$f":"Октябрь!A17","v":"7б"},{"$nulls":11},"И"]
[{"$f":"Октябрь!A18","v":"8а"},{"$nulls":8},"Х",{"$nulls":3},"общ",{"$nulls":3},"Гм",null,"Ал"]
[{"$f":"Октябрь!A19","v":"8б"},{"$nulls":8},"Х",null,null,"общ",{"$nulls":5},"Гм"]
[{"$f":"Октябрь!A20","v":"9а"},{"$nulls":6},"Инф",{"$nulls":10},"Х","р","л",{"$nulls":3},"Ал","Гм"]
[{"$f":"Октябрь!A21","v":"9б"},{"$nulls":6},"Инф",{"$nulls":10},"Х","р","Ф","л",{"$nulls":3},"Ал","Гм"]
[{"$f":"Октябрь!A22","v":"11а"},{"$nulls":3},"р",null,null,"Инф",{"$nulls":8},"Ал",{"$nulls":10},"Г"]
[]
[null,null,"Р","русский язык",null,null," "," ",null,null,"Л","литература"]
[null,null,"М","математика",{"$nulls":6},"Ря","родной язык"]
[null,null,"Ал","алгебра",{"$nulls":6},"Рл","родная литература"]
[null,null,"Гм","геометрия",{"$nulls":6},"Муз","музыка"]
[null,null,"Ф","физика",{"$nulls":6},"ИЗО","изобразительное искусство"]
[null,null,"Х","химия",{"$nulls":6},"Ф-р","физическая культура"]
[null,null,"Б","биология",{"$nulls":6},"ОБЖ","ОБЖ"," "]
[null,null,"Гг","география",{"$nulls":6},"Т","технология"]
[null,null,"Ом","окружающий мир",{"$nulls":6},"Лч","литературное чтение"]
[null,null,"Ая","анг.язык",{"$nulls":6},"ОДНКНР","ОДНКНР"]
[null,null,"И","история",{"$nulls":6}," "," "," "]
[null,null,"Ин","инфофрматика",{"$nulls":7}," "," "]

{"sheet":"Март","index":6,"n_rows":35,"n_cols":32,"rows_kept":35}
[]
["дата/класс",1,2,3,4,5,6,7,8,9,10,11,12,13,14,15,16,17,18,19,20,21,22,23,24,25,26,27,28,29,30,31]
[{"$f":"Октябрь!A3","v":"1а"}]
[{"$f":"Октябрь!A4","v":"1б"}]
[{"$f":"Октябрь!A5","v":"2а"},{"$nulls":22},"м","р"]
[{"$f":"Октябрь!A6","v":"2б"},{"$nulls":22},"р","м"]
[{"$f":"Октябрь!A7","v":"3а"},{"$nulls":23},"Р","М"]
[{"$f":"Октябрь!A8","v":"3б"}]
[{"$f":"Октябрь!A9","v":"4а"}]
[{"$f":"Октябрь!A10","v":"4б"},{"$nulls":5},"Р",{"$nulls":3},"Р",{"$nulls":5},"ОМ"]
["5а",{"$nulls":16},"Р"]
[{"$f":"Октябрь!A12","v":"5б"},{"$nulls":10},"Ря",{"$nulls":7},"Р"]
[{"$f":"Октябрь!A13","v":"5в"},{"$nulls":17},"Р",{"$nulls":5},"М"]
[{"$f":"Октябрь!A14","v":"6а"},{"$nulls":3},"М"]
[{"$f":"Октябрь!A15","v":"6б"},null,null,"М"]
[{"$f":"Октябрь!A16","v":"7а"},null,null,"Гм",{"$nulls":8},"Ал","Г",{"$nulls":9},"Ря",null,"Б","Ф"]
[{"$f":"Октябрь!A17","v":"7б"},{"$nulls":4},"Гм",{"$nulls":4},"Ря","Г","Ал",{"$nulls":7},"Ая",{"$nulls":6},"Ф"]
[{"$f":"Октябрь!A18","v":"8а"},{"$nulls":10},"Ря",{"$nulls":5},"Ая","Инф",{"$nulls":6},"Х","Ф"]
[{"$f":"Октябрь!A19","v":"8б"},{"$nulls":9},"р",null,"Ря",{"$nulls":5},"Инф",{"$nulls":6},"Х","Ф","Гм"]
[{"$f":"Октябрь!A20","v":"9а"},{"$nulls":10},"Ая",null,"Ря",{"$nulls":3},"Б"]
[{"$f":"Октябрь!A21","v":"9б"},{"$nulls":15},"Б"]
[{"$f":"Октябрь!A22","v":"11а"},{"$nulls":11},"общ",null,"л",null,null,"Гм"]
[]
[null,null,"Р","русский язык",null,null," "," ",null,null,"Л","литература"]
[null,null,"М","математика",{"$nulls":6},"Ря","родной язык"]
[null,null,"Ал","алгебра",{"$nulls":6},"Рл","родная литература"]
[null,null,"Гм","геометрия",{"$nulls":6},"Муз","музыка"]
[null,null,"Ф","физика",{"$nulls":6},"ИЗО","изобразительное искусство"]
[null,null,"Х","химия",{"$nulls":6},"Ф-р","физическая культура"]
[null,null,"Б","биология",{"$nulls":6},"ОБЖ","ОБЖ"," "]
[null,null,"Гг","география",{"$nulls":6},"Т","технология"]
[null,null,"Ом","окружающий мир",{"$nulls":6},"Лч","литературное чтение"]
[null,null,"Ая","анг.язык",{"$nulls":6},"ОДНКНР","ОДНКНР"]
[null,null,"И","история",{"$nulls":6}," "," "," "]
[null,null,"Ин","инфофрматика",{"$nulls":7}," "," "]

{"sheet":"Апрель","index":7,"n_rows":35,"n_cols":31,"rows_kept":35}
[]
["дата/класс",1,2,3,4,5,6,7,8,9,10,11,12,13,14,15,16,17,18,19,20,21,22,23,24,25,26,27,28,29,30]
[{"$f":"Октябрь!A3","v":"1а"}]
[{"$f":"Октябрь!A4","v":"1б"}]
[{"$f":"Октябрь!A5","v":"2а"},{"$nulls":17},"Ая"]
[{"$f":"Октябрь!A6","v":"2б"},{"$nulls":17},"Ая"]
[{"$f":"Октябрь!A7","v":"3а"},{"$nulls":16},"М",{"$nulls":3},"Р"]
[{"$f":"Октябрь!A8","v":"3б"}]
[{"$f":"Октябрь!A9","v":"4а"},{"$nulls":13},"М",{"$nulls":14},"ОМ"]
[{"$f":"Октябрь!A10","v":"4б"},{"$nulls":7},"М",{"$nulls":5},"М","ОМ",{"$nulls":8},"Р"]
[{"$f":"Октябрь!A11","v":"5а"},{"$nulls":5},"Р",{"$nulls":7},"Р",null,"М",{"$nulls":8},"Р"]
[{"$f":"Октябрь!A12","v":"5б"},{"$nulls":8},"Р",{"$nulls":6},"М","Р",{"$nulls":10},"Р"]
[{"$f":"Октябрь!A13","v":"5в"},{"$nulls":5},"Р",{"$nulls":7},"Р",{"$nulls":9},"Р"]
[{"$f":"Октябрь!A14","v":"6а"},{"$nulls":5},"Г",null,"М",{"$nulls":14},"М"]
[{"$f":"Октябрь!A15","v":"6б"},{"$nulls":6},"Г",{"$nulls":14},"М"]
[{"$f":"Октябрь!A16","v":"7а"},{"$nulls":7},"Б",null,null,"Инф",null,"И",{"$nulls":10},"ВиС",null,null,"л",null,null,"Ф"]
[{"$f":"Октябрь!A17","v":"7б"},{"$nulls":10},"Инф",null,null,"И",{"$nulls":8},"ВиС"]
[{"$f":"Октябрь!A18","v":"8а"},{"$nulls":9},"Б",{"$nulls":3},"Гм"]
[{"$f":"Октябрь!A19","v":"8б"},{"$nulls":7},"Ал",null,"Б",{"$nulls":3},"л","р"]
[{"$f":"Октябрь!A20","v":"9а"},{"$nulls":7},"р","Ал",{"$nulls":13},"л"]
[{"$f":"Октябрь!A21","v":"9б"},{"$nulls":7},"р",null,"Ал",{"$nulls":12},"л"]
[{"$f":"Октябрь!A22","v":"11а"},{"$nulls":8},"Ал",{"$nulls":12},"р",{"$nulls":4},"Х"]
[]
[null,null,"Р","русский язык",null,null," "," ",null,null,"Л","литература"]
[null,null,"М","математика",{"$nulls":6},"Ря","родной язык"]
[null,null,"Ал","алгебра",{"$nulls":6},"Рл","родная литература"]
[null,null,"Гм","геометрия",{"$nulls":6},"Муз","музыка"]
[null,null,"Ф","физика",{"$nulls":6},"ИЗО","изобразительное искусство"]
[null,null,"Х","химия",{"$nulls":6},"Ф-р","физическая культура"]
[null,null,"Б","биология",{"$nulls":6},"ОБЖ","ОБЖ"," "]
[null,null,"Гг","география",{"$nulls":6},"Т","технология"]
[null,null,"Ом","окружающий мир",{"$nulls":6},"Лч","литературное чтение"]
[null,null,"Ая","анг.язык",{"$nulls":6},"ОДНКНР","ОДНКНР"]
[null,null,"И","история",{"$nulls":6}," "," "," "]
[null,null,"Ин","инфофрматика",{"$nulls":7}," "," "]

{"sheet":"Май","index":8,"n_rows":35,"n_cols":27,"rows_kept":35}
[]
["дата/класс",1,2,3,4,5,6,7,8,9,10,11,12,13,14,15,16,17,18,19,20,21,22,23,24,25,26]
[{"$f":"Октябрь!A3","v":"1а"}]
[{"$f":"Октябрь!A4","v":"1б"}]
[{"$f":"Октябрь!A5","v":"2а"},{"$nulls":13},"Ая",{"$nulls":3},"м","р"]
[{"$f":"Октябрь!A6","v":"2б"},{"$nulls":14},"Ая",null,null,"р","м"]
[{"$f":"Октябрь!A7","v":"3а"},{"$nulls":14},"ОМ",null,null,"Ая","Р","М"]
[{"$f":"Октябрь!A8","v":"3б"},{"$nulls":17},"Ая"]
[{"$f":"Октябрь!A9","v":"4а"},{"$nulls":10},"М",{"$nulls":7},"Р"]
[{"$f":"Октябрь!A10","v":"4б"},{"$nulls":3},"ОМ",{"$nulls":6},"М","Р",{"$nulls":6},"Р"]
[{"$f":"Октябрь!A11","v":"5а"},{"$nulls":12},"Рл","Л",{"$nulls":4},"Ая","Г","Р"]
[{"$f":"Октябрь!A12","v":"5б"},{"$nulls":4},"Ря",{"$nulls":5},"Л","Рл",{"$nulls":3},"Ая",{"$nulls":4},"Г","Р"]
[{"$f":"Октябрь!A13","v":"5в"},{"$nulls":7},"М",{"$nulls":3},"Рл","Л",null,"Г",{"$nulls":3},"М","Р",null,"М"]
[{"$f":"Октябрь!A14","v":"6а"},{"$nulls":13},"М",{"$nulls":4},"Ая",null,null,"М"]
[{"$f":"Октябрь!A15","v":"6б"},{"$nulls":12},"М",{"$nulls":5},"Ая",null,"М"]
[{"$f":"Октябрь!A16","v":"7а"},{"$nulls":4},"Гм",null,"Ая","Г",{"$nulls":4},"Гм","Ал",{"$nulls":3},"Ря","р",null,"Ал"]
[{"$f":"Октябрь!A17","v":"7б"},{"$nulls":4},"Ря","Г","Ф","Ая",{"$nulls":5},"Ал","Гм",{"$nulls":5},"Гм","Ал"]
[{"$f":"Октябрь!A18","v":"8а"},{"$nulls":3},"ВиС","Ря",null,null,"Г",{"$nulls":5},"Ая","общ",{"$nulls":3},"Гм","Х",null,"Ф"]
[{"$f":"Октябрь!A19","v":"8б"},{"$nulls":4},"Ря","Г",null,"Гм",{"$nulls":3},"р",null,"общ","Гм",null,null,"Ал",null,"Х","ВиС","Ф"]
[{"$f":"Октябрь!A20","v":"9а"},{"$nulls":3},"Гм",null,null,"Ря","Ря",{"$nulls":3},"р","Х",{"$nulls":4},"Гм",null,"ВиС","Ал"]
[{"$f":"Октябрь!A21","v":"9б"},{"$nulls":4},"Гм",{"$nulls":5},"р","Ф","Х","общ","общ",{"$nulls":3},"Гм","Ал",null,"ВиС"]
[{"$f":"Октябрь!A22","v":"11а"},{"$nulls":5},"л",{"$nulls":4},"Гм","р","0бщ",null,"Ал","ВиС"]
[]
[null,null,"Р","русский язык",null,null," "," ",null,null,"Л","литература"]
[null,null,"М","математика",{"$nulls":6},"Ря","родной язык"]
[null,null,"Ал","алгебра",{"$nulls":6},"Рл","родная литература"]
[null,null,"Гм","геометрия",{"$nulls":6},"Муз","музыка"]
[null,null,"Ф","физика",{"$nulls":6},"ИЗО","изобразительное искусство"]
[null,null,"Х","химия",{"$nulls":6},"Ф-р","физическая культура"]
[null,null,"Б","биология",{"$nulls":6},"ОБЖ","ОБЖ"," "]
[null,null,"Гг","география",{"$nulls":6},"Т","технология"]
[null,null,"Ом","окружающий мир",{"$nulls":6},"Лч","литературное чтение"]
[null,null,"Ая","анг.язык",{"$nulls":6},"ОДНКНР","ОДНКНР"]
[null,null,"И","история",{"$nulls":6}," "," "," "]
[null,null,"Ин","инфофрматика",{"$nulls":7}," "," "]